BEGIN:VCALENDAR
VERSION:2.0
PRODID:-//AWARE of NH - ECPv6.15.17.1//NONSGML v1.0//EN
CALSCALE:GREGORIAN
METHOD:PUBLISH
X-ORIGINAL-URL:https://awarenh.org
X-WR-CALDESC:Events for AWARE of NH
REFRESH-INTERVAL;VALUE=DURATION:PT1H
X-Robots-Tag:noindex
X-PUBLISHED-TTL:PT1H
BEGIN:VTIMEZONE
TZID:America/New_York
BEGIN:DAYLIGHT
TZOFFSETFROM:-0500
TZOFFSETTO:-0400
TZNAME:EDT
DTSTART:20250309T070000
END:DAYLIGHT
BEGIN:STANDARD
TZOFFSETFROM:-0400
TZOFFSETTO:-0500
TZNAME:EST
DTSTART:20251102T060000
END:STANDARD
BEGIN:DAYLIGHT
TZOFFSETFROM:-0500
TZOFFSETTO:-0400
TZNAME:EDT
DTSTART:20260308T070000
END:DAYLIGHT
BEGIN:STANDARD
TZOFFSETFROM:-0400
TZOFFSETTO:-0500
TZNAME:EST
DTSTART:20261101T060000
END:STANDARD
BEGIN:DAYLIGHT
TZOFFSETFROM:-0500
TZOFFSETTO:-0400
TZNAME:EDT
DTSTART:20270314T070000
END:DAYLIGHT
BEGIN:STANDARD
TZOFFSETFROM:-0400
TZOFFSETTO:-0500
TZNAME:EST
DTSTART:20271107T060000
END:STANDARD
END:VTIMEZONE
BEGIN:VEVENT
DTSTART;VALUE=DATE:20260713
DTEND;VALUE=DATE:20260714
DTSTAMP:20260421T084721
CREATED:20260330T114959Z
LAST-MODIFIED:20260402T133858Z
UID:6720-1783900800-1783987199@awarenh.org
SUMMARY:2026 Putts for Paws Charity Golf Tournament
DESCRIPTION:Monday\, July 13th 				\n				\n				\n				\n									$175/player or$650/foursome – 8 AM registration – 9 AM shotgun start 								\n				\n				\n				\n									Sky Meadow Country ClubNashua\, NH 								\n				\n				\n		\n				\n				\n					Sign Up Today! 				\n				\n				\n				\n							\n			Register!\n						\n				\n				\n				\n					Help Spread the Word 				\n				\n				\n		\n				\n				\n		\n					\n				\n				\n					Calling All Golf Enthusiasts and Animal Lovers!				\n				\n					\n				\n		\n					\n		\n				\n				\n									Get ready to tee off for a cause at Putts for Paws\, the ultimate golf tournament where fun meets philanthropy. Register and prepare for a day filled with friendly competition\, exciting prizes\, and heartwarming impact.​ 								\n				\n				\n		\n				\n				\n							\n        Become a Sponsor!Get visibility for your business or cause by supporting AWARE NH as a Putts for Paws Sponsor. There are options in all price ranges! Learn More Now	\n								\n				\n				\n					\n				\n		\n					\n				\n				\n					What's in Store at Putts for Paws 2026?				\n				\n		\n				\n				\n							\n							\n											\n													\n										18 Holes of Golf Bliss – Enjoy a scramble-style tournament on a premier course\, complete with cart and valet bag service. \n									\n								\n											\n													\n										Contests & Prizes Galore – Show off your skills with fun course challenges\, thrilling raffles\, and an incredible silent auction. \n									\n								\n											\n													\n										Epic Swag Bags – Take home exclusive goodies that will make your golf buddies jealous. \n									\n								\n											\n													\n										Delicious Lunch – Fuel up with a fantastic meal to keep you at the top of your game. \n									\n						\n						\n				\n				\n				\n					Why Play? Make a Difference with Every Swing!				\n				\n				\n				\n									Your $175 entry fee (or $650 for a foursome) isn’t just your ticket to an unforgettable day—it directly supports AWARE NH’s mission to provide affordable spay and neuter services. From spay/neuter clinics to educational seminars on animal care\, we cater to pet owners\, animal lovers\, and community members alike. Our goals are to elevate animal welfare standards\, reduce shelter populations\, and empower pet owners with the knowledge they need for responsible care.  								\n				\n				\n				\n					Register Today!				\n				\n				\n				\n									Fill out the form below to hold your spot (or click here to be a sponsor) and be part of an event that makes a real impact on animals in NH. Whether you’re a seasoned golfer or a first-timer\, everyone is welcome! Sign up solo and we’ll match you with a group\, or bring your own foursome for a day of camaraderie and competition. 								\n				\n				\n				\n							\n							\n											\n													\n										Golf Ball Cannon Excitement – Players had a blast launching their shots down the fairway\, and two lucky participants won vacation stays in Mexico\, the Dominican Republic\, or the Bahamas (valued at $1\,200+!).\n									\n								\n											\n													\n										Tasting Vendors Delights – Golfers enjoyed delicious samples from our amazing local vendors\, adding a flavorful twist to the day.\n									\n								\n											\n													\n										Strong Community Support – With 80 golfers and passionate animal lovers\, last year’s event successfully raised funds for critical surgical equipment.\n									\n								\n											\n													\n										Star-Studded Event – The tournament was hosted by WMUR’s Katherine Underwood\, adding an extra level of excitement and prestige!\n									\n						\n						\n				\n				\n				\n				\n									 \n\n \n\n								\n				\n					\n				\n		\n					\n				\n				\n					Register to Play Before Spaces Fill Up!				\n				\n				\n				\n									Spots will fill up fast\, so register now! Grab your clubs\, gather your team\, and get ready for an amazing day on the green—all while supporting a truly pawsome cause! 🐾 								\n				\n				\n				\n																	\n				\n					\n				\n		\n					\n				\n				\n							\n			Learn More About Becoming a Sponsor!
URL:https://awarenh.org/event/2026-putts-for-paws-charity-golf-tournament/
LOCATION:Sky Meadow Country Club\, 6 Mountain Laurels Dr.\, Nashua\, NH\, 03062\, United States
CATEGORIES:Fundraisers
ORGANIZER;CN="AWARE of NH":MAILTO:info@awarenh.org
END:VEVENT
END:VCALENDAR