BEGIN:VCALENDAR
VERSION:2.0
PRODID:-//AWARE of NH - ECPv6.15.17.1//NONSGML v1.0//EN
CALSCALE:GREGORIAN
METHOD:PUBLISH
X-WR-CALNAME:AWARE of NH
X-ORIGINAL-URL:https://awarenh.org
X-WR-CALDESC:Events for AWARE of NH
REFRESH-INTERVAL;VALUE=DURATION:PT1H
X-Robots-Tag:noindex
X-PUBLISHED-TTL:PT1H
BEGIN:VTIMEZONE
TZID:America/New_York
BEGIN:DAYLIGHT
TZOFFSETFROM:-0500
TZOFFSETTO:-0400
TZNAME:EDT
DTSTART:20240310T070000
END:DAYLIGHT
BEGIN:STANDARD
TZOFFSETFROM:-0400
TZOFFSETTO:-0500
TZNAME:EST
DTSTART:20241103T060000
END:STANDARD
BEGIN:DAYLIGHT
TZOFFSETFROM:-0500
TZOFFSETTO:-0400
TZNAME:EDT
DTSTART:20250309T070000
END:DAYLIGHT
BEGIN:STANDARD
TZOFFSETFROM:-0400
TZOFFSETTO:-0500
TZNAME:EST
DTSTART:20251102T060000
END:STANDARD
BEGIN:DAYLIGHT
TZOFFSETFROM:-0500
TZOFFSETTO:-0400
TZNAME:EDT
DTSTART:20260308T070000
END:DAYLIGHT
BEGIN:STANDARD
TZOFFSETFROM:-0400
TZOFFSETTO:-0500
TZNAME:EST
DTSTART:20261101T060000
END:STANDARD
END:VTIMEZONE
BEGIN:VEVENT
DTSTART;TZID=America/New_York:20251206T100000
DTEND;TZID=America/New_York:20251206T120000
DTSTAMP:20260421T084148
CREATED:20250918T201123Z
LAST-MODIFIED:20251110T144421Z
UID:5799-1765015200-1765022400@awarenh.org
SUMMARY:Low-Cost Vaccine & Microchip Clinics at AWARE NH
DESCRIPTION:Events Details				\n				\n				\n				\n									When: First Saturday of every month Time: 10:00 AM – 12:00 PM (Last pet accepted at 11:45 AM) No appointments needed—just walk in!  								\n				\n		\n				\n				\n																														\n				\n				\n				\n				\n					Venue Details				\n				\n				\n				\n		\n		\n				\n				\n																														\n				\n				\n				\n									On the first Saturday of most months\, we offer affordable vaccines and microchips to help keep your pets happy\, healthy\, and safe. Important Info: • Dogs must be on a leash • Cats must be in carriersMinimum Ages: → Rabies: 12 weeks → Distemper: 6 weeks → Microchip: 8 weeks Cash (exact change preferred) & credit cards accepted.  *Note: Prices may fluctuate slightly each month
URL:https://awarenh.org/event/low-cost-vaccine-microchip-clinics-hooksett-dec2025/
LOCATION:AWARE of NH Hooksett\, 171 Londonderry Turnpike\, #5\, Hooksett\, NH\, 03106\, United States
CATEGORIES:Low-cost Vaccine Clinics for Pets
ATTACH;FMTTYPE=image/png:https://awarenh.org/wp-content/uploads/2025/11/20251206-Dec-Vaccine-Clinic.png
ORGANIZER;CN="AWARE of NH":MAILTO:info@awarenh.org
END:VEVENT
END:VCALENDAR