BEGIN:VCALENDAR
VERSION:2.0
PRODID:-//AWARE of NH - ECPv6.15.17.1//NONSGML v1.0//EN
CALSCALE:GREGORIAN
METHOD:PUBLISH
X-WR-CALNAME:AWARE of NH
X-ORIGINAL-URL:https://awarenh.org
X-WR-CALDESC:Events for AWARE of NH
REFRESH-INTERVAL;VALUE=DURATION:PT1H
X-Robots-Tag:noindex
X-PUBLISHED-TTL:PT1H
BEGIN:VTIMEZONE
TZID:America/New_York
BEGIN:DAYLIGHT
TZOFFSETFROM:-0500
TZOFFSETTO:-0400
TZNAME:EDT
DTSTART:20250309T070000
END:DAYLIGHT
BEGIN:STANDARD
TZOFFSETFROM:-0400
TZOFFSETTO:-0500
TZNAME:EST
DTSTART:20251102T060000
END:STANDARD
BEGIN:DAYLIGHT
TZOFFSETFROM:-0500
TZOFFSETTO:-0400
TZNAME:EDT
DTSTART:20260308T070000
END:DAYLIGHT
BEGIN:STANDARD
TZOFFSETFROM:-0400
TZOFFSETTO:-0500
TZNAME:EST
DTSTART:20261101T060000
END:STANDARD
BEGIN:DAYLIGHT
TZOFFSETFROM:-0500
TZOFFSETTO:-0400
TZNAME:EDT
DTSTART:20270314T070000
END:DAYLIGHT
BEGIN:STANDARD
TZOFFSETFROM:-0400
TZOFFSETTO:-0500
TZNAME:EST
DTSTART:20271107T060000
END:STANDARD
END:VTIMEZONE
BEGIN:VEVENT
DTSTART;TZID=America/New_York:20260801T100000
DTEND;TZID=America/New_York:20260801T120000
DTSTAMP:20260421T221156
CREATED:20260413T105510Z
LAST-MODIFIED:20260413T105510Z
UID:6910-1785578400-1785585600@awarenh.org
SUMMARY:Low-Cost Vaccine & Microchip Clinics at AWARE NH
DESCRIPTION:Events Details\nWhen: First Saturday of every month \n Time: 10:00 AM – 12:00 PM (Last pet accepted at 11:45 AM) \nNo appointments needed—just walk in!  \n																														 \nVenue Details\n																														 \nOn the first Saturday of most months\, we offer affordable vaccines and microchips to help keep your pets happy\, healthy\, and safe. \nImportant Info: • Dogs must be on a leash • Cats must be in carriers \nMinimum Ages: → Rabies: 12 weeks → Distemper: 6 weeks → Microchip: 8 weeks \nCash (exact change preferred) & credit cards accepted.  \n*Note: Prices may fluctuate slightly each month
URL:https://awarenh.org/event/low-cost-vaccine-microchip-clinics-at-aware-nh-6/
LOCATION:AWARE of NH Hooksett\, 171 Londonderry Turnpike\, #5\, Hooksett\, NH\, 03106\, United States
CATEGORIES:Low-cost Vaccine Clinics for Pets
ATTACH;FMTTYPE=image/png:https://awarenh.org/wp-content/uploads/2026/04/2026-08-01-Vx-Clinic.png
ORGANIZER;CN="AWARE of NH":MAILTO:info@awarenh.org
END:VEVENT
END:VCALENDAR