BEGIN:VCALENDAR
VERSION:2.0
PRODID:-//AWARE of NH - ECPv6.15.17.1//NONSGML v1.0//EN
CALSCALE:GREGORIAN
METHOD:PUBLISH
X-WR-CALNAME:AWARE of NH
X-ORIGINAL-URL:https://awarenh.org
X-WR-CALDESC:Events for AWARE of NH
REFRESH-INTERVAL;VALUE=DURATION:PT1H
X-Robots-Tag:noindex
X-PUBLISHED-TTL:PT1H
BEGIN:VTIMEZONE
TZID:America/New_York
BEGIN:DAYLIGHT
TZOFFSETFROM:-0500
TZOFFSETTO:-0400
TZNAME:EDT
DTSTART:20230312T070000
END:DAYLIGHT
BEGIN:STANDARD
TZOFFSETFROM:-0400
TZOFFSETTO:-0500
TZNAME:EST
DTSTART:20231105T060000
END:STANDARD
BEGIN:DAYLIGHT
TZOFFSETFROM:-0500
TZOFFSETTO:-0400
TZNAME:EDT
DTSTART:20240310T070000
END:DAYLIGHT
BEGIN:STANDARD
TZOFFSETFROM:-0400
TZOFFSETTO:-0500
TZNAME:EST
DTSTART:20241103T060000
END:STANDARD
BEGIN:DAYLIGHT
TZOFFSETFROM:-0500
TZOFFSETTO:-0400
TZNAME:EDT
DTSTART:20250309T070000
END:DAYLIGHT
BEGIN:STANDARD
TZOFFSETFROM:-0400
TZOFFSETTO:-0500
TZNAME:EST
DTSTART:20251102T060000
END:STANDARD
END:VTIMEZONE
BEGIN:VEVENT
DTSTART;TZID=America/New_York:20241205T170000
DTEND;TZID=America/New_York:20241205T200000
DTSTAMP:20260421T160827
CREATED:20241111T202535Z
LAST-MODIFIED:20241111T215430Z
UID:4332-1733418000-1733428800@awarenh.org
SUMMARY:Open House at AWARE of NH!
DESCRIPTION:
URL:https://awarenh.org/event/open-house-at-aware-of-nh/
LOCATION:AWARE of NH Hooksett\, 171 Londonderry Turnpike\, #5\, Hooksett\, NH\, 03106\, United States
CATEGORIES:AWARE Open House
ATTACH;FMTTYPE=image/jpeg:https://awarenh.org/wp-content/uploads/2024/10/Hooksett-sign-500x500-1.jpg
ORGANIZER;CN="AWARE of NH":MAILTO:info@awarenh.org
END:VEVENT
BEGIN:VEVENT
DTSTART;TZID=America/New_York:20240715T080000
DTEND;TZID=America/New_York:20240715T150000
DTSTAMP:20260421T160827
CREATED:20240305T212140Z
LAST-MODIFIED:20240319T160159Z
UID:896-1721030400-1721055600@awarenh.org
SUMMARY:2024 Putts for Paws Charity Golf Tournament
DESCRIPTION:Hey there\, fellow golf aficionados and animal lovers! Get ready to swing into action for a day of excitement and goodwill on the green like never before! Here’s what’s in store:  \n🏌️‍♀️ 18 holes of golfing bliss in a scramble-style format\, complete with cart and valet bag service. \n🎉 Contests\, raffles\, and silent auction items – oh my! Get ready to win big and show off your skills on the course. \n🛍️ Score an epic swag bag filled to the brim with goodies that’ll make your friends green with envy. \n🍔 Lunchtime delights await\, so you can refuel and recharge. \n⛳️ And let’s not forget the pièce de résistance: the chance to win a luxurious 5-night\, 6-day Caribbean Cruise with just one miraculous hole-in-one! Dream big\, folks! \nBut wait\, there’s more!\nEvery swing you take\, and every putt you sink will make a real difference. By joining us at Putts for Paws\, you’re not just having a blast – you’re supporting a truly magnificent cause. Your $200 entrance fee (or $725 for a foursome) isn’t just buying you a ticket to a super-fun day—it’s helping outfit a surgical suite dedicated to spaying and neutering pets in need. Talk about putting your money where your heart is! \nRegister and/or Sponsor Today!\nRegistration is open\, and we want YOU to be a part of the action! Whether you’re a seasoned pro or a newbie eager to tee off\, there’s a spot for everyone in our golfing extravaganza. \nSo what are you waiting for? Grab your clubs\, gather your squad (or let us match you up)\, and let’s make some memories on the course while making a real difference for our furry friends. See you on the green! 🐾 \n\nQuestions about Putts for Paws?\nPlease contact us today!
URL:https://awarenh.org/event/2024-putts-for-paws-charity-golf-tournament/
LOCATION:Sky Meadow Country Club\, 6 Mountain Laurels Dr.\, Nashua\, NH\, 03062\, United States
CATEGORIES:Fundraisers
ORGANIZER;CN="AWARE of NH":MAILTO:info@awarenh.org
END:VEVENT
END:VCALENDAR