BEGIN:VCALENDAR
VERSION:2.0
PRODID:-//AWARE of NH - ECPv6.15.17.1//NONSGML v1.0//EN
CALSCALE:GREGORIAN
METHOD:PUBLISH
X-WR-CALNAME:AWARE of NH
X-ORIGINAL-URL:https://awarenh.org
X-WR-CALDESC:Events for AWARE of NH
REFRESH-INTERVAL;VALUE=DURATION:PT1H
X-Robots-Tag:noindex
X-PUBLISHED-TTL:PT1H
BEGIN:VTIMEZONE
TZID:America/New_York
BEGIN:DAYLIGHT
TZOFFSETFROM:-0500
TZOFFSETTO:-0400
TZNAME:EDT
DTSTART:20250309T070000
END:DAYLIGHT
BEGIN:STANDARD
TZOFFSETFROM:-0400
TZOFFSETTO:-0500
TZNAME:EST
DTSTART:20251102T060000
END:STANDARD
BEGIN:DAYLIGHT
TZOFFSETFROM:-0500
TZOFFSETTO:-0400
TZNAME:EDT
DTSTART:20260308T070000
END:DAYLIGHT
BEGIN:STANDARD
TZOFFSETFROM:-0400
TZOFFSETTO:-0500
TZNAME:EST
DTSTART:20261101T060000
END:STANDARD
BEGIN:DAYLIGHT
TZOFFSETFROM:-0500
TZOFFSETTO:-0400
TZNAME:EDT
DTSTART:20270314T070000
END:DAYLIGHT
BEGIN:STANDARD
TZOFFSETFROM:-0400
TZOFFSETTO:-0500
TZNAME:EST
DTSTART:20271107T060000
END:STANDARD
END:VTIMEZONE
BEGIN:VEVENT
DTSTART;VALUE=DATE:20260123
DTEND;VALUE=DATE:20260124
DTSTAMP:20260421T112902
CREATED:20250624T233119Z
LAST-MODIFIED:20251110T151527Z
UID:5208-1769126400-1769212799@awarenh.org
SUMMARY:Second Annual Comedy Show Fundraiser: Get Your Tickets Before they Sell Out!
DESCRIPTION:Events Details				\n				\n				\n				\n									When: First Saturday of every month Time: 10:00 AM – 12:00 PM (Last pet accepted at 11:45 AM) No appointments needed—just walk in!  								\n				\n		\n				\n				\n																														\n				\n				\n				\n				\n					Venue Details				\n				\n				\n				\n		\n		\n				\n				\n																														\n				\n				\n				\n									On the first Saturday of most months\, we offer affordable vaccines and microchips to help keep your pets happy\, healthy\, and safe. Important Info: • Dogs must be on a leash • Cats must be in carriersMinimum Ages: → Rabies: 12 weeks → Distemper: 6 weeks → Microchip: 8 weeks Cash (exact change preferred) & credit cards accepted.  *Note: Prices may fluctuate slightly each month
URL:https://awarenh.org/event/2026-comedy-show/
LOCATION:Derryfield Country Club\, 625 Mammoth Rd.\, Manchester\, NH\, 03104\, United States
CATEGORIES:Fundraisers
ATTACH;FMTTYPE=image/jpeg:https://awarenh.org/wp-content/uploads/2025/06/IMG_8419.jpg
ORGANIZER;CN="AWARE of NH":MAILTO:info@awarenh.org
END:VEVENT
BEGIN:VEVENT
DTSTART;TZID=America/New_York:20260207T100000
DTEND;TZID=America/New_York:20260207T120000
DTSTAMP:20260421T112902
CREATED:20251209T205141Z
LAST-MODIFIED:20251212T161200Z
UID:5956-1770458400-1770465600@awarenh.org
SUMMARY:Low-Cost Vaccine & Microchip Clinics at AWARE NH
DESCRIPTION:Events Details				\n				\n				\n				\n									When: First Saturday of every month Time: 10:00 AM – 12:00 PM (Last pet accepted at 11:45 AM) No appointments needed—just walk in!  								\n				\n		\n				\n				\n																														\n				\n				\n				\n				\n					Venue Details				\n				\n				\n				\n		\n		\n				\n				\n																														\n				\n				\n				\n									On the first Saturday of most months\, we offer affordable vaccines and microchips to help keep your pets happy\, healthy\, and safe. Important Info: • Dogs must be on a leash • Cats must be in carriersMinimum Ages: → Rabies: 12 weeks → Distemper: 6 weeks → Microchip: 8 weeks Cash (exact change preferred) & credit cards accepted.  *Note: Prices may fluctuate slightly each month
URL:https://awarenh.org/event/low-cost-vaccine-microchip-clinics-at-aware-nh-feb2026/
LOCATION:AWARE of NH Hooksett\, 171 Londonderry Turnpike\, #5\, Hooksett\, NH\, 03106\, United States
CATEGORIES:Low-cost Vaccine Clinics for Pets
ATTACH;FMTTYPE=image/jpeg:https://awarenh.org/wp-content/uploads/2025/12/2026-02-07-Vx-Clinic-web.jpg
ORGANIZER;CN="AWARE of NH":MAILTO:info@awarenh.org
END:VEVENT
BEGIN:VEVENT
DTSTART;TZID=America/New_York:20260404T100000
DTEND;TZID=America/New_York:20260404T120000
DTSTAMP:20260421T112902
CREATED:20260114T204319Z
LAST-MODIFIED:20260130T192424Z
UID:6081-1775296800-1775304000@awarenh.org
SUMMARY:Low-Cost Vaccine & Microchip Clinics at AWARE NH
DESCRIPTION:Events Details				\n				\n				\n				\n									When: First Saturday of every month Time: 10:00 AM – 12:00 PM (Last pet accepted at 11:45 AM) No appointments needed—just walk in!  								\n				\n		\n				\n				\n																														\n				\n				\n				\n				\n					Venue Details				\n				\n				\n				\n		\n		\n				\n				\n																														\n				\n				\n				\n									On the first Saturday of most months\, we offer affordable vaccines and microchips to help keep your pets happy\, healthy\, and safe. Important Info: • Dogs must be on a leash • Cats must be in carriersMinimum Ages: → Rabies: 12 weeks → Distemper: 6 weeks → Microchip: 8 weeks Cash (exact change preferred) & credit cards accepted.  *Note: Prices may fluctuate slightly each month
URL:https://awarenh.org/event/low-cost-vaccine-microchip-clinics-at-aware-nh-3/
LOCATION:AWARE of NH Hooksett\, 171 Londonderry Turnpike\, #5\, Hooksett\, NH\, 03106\, United States
CATEGORIES:Low-cost Vaccine Clinics for Pets
ATTACH;FMTTYPE=image/png:https://awarenh.org/wp-content/uploads/2026/01/2026-04-04-Vx-Clinic.png
ORGANIZER;CN="AWARE of NH":MAILTO:info@awarenh.org
END:VEVENT
BEGIN:VEVENT
DTSTART;TZID=America/New_York:20260502T100000
DTEND;TZID=America/New_York:20260502T120000
DTSTAMP:20260421T112902
CREATED:20260130T192555Z
LAST-MODIFIED:20260413T105055Z
UID:6270-1777716000-1777723200@awarenh.org
SUMMARY:Low-Cost Vaccine & Microchip Clinics at AWARE NH
DESCRIPTION:Events Details				\n				\n				\n				\n									When: First Saturday of every month Time: 10:00 AM – 12:00 PM (Last pet accepted at 11:45 AM) No appointments needed—just walk in!  								\n				\n		\n				\n				\n																														\n				\n				\n				\n				\n					Venue Details				\n				\n				\n				\n		\n		\n				\n				\n																														\n				\n				\n				\n									On the first Saturday of most months\, we offer affordable vaccines and microchips to help keep your pets happy\, healthy\, and safe. Important Info: • Dogs must be on a leash • Cats must be in carriersMinimum Ages: → Rabies: 12 weeks → Distemper: 6 weeks → Microchip: 8 weeks Cash (exact change preferred) & credit cards accepted.  *Note: Prices may fluctuate slightly each month
URL:https://awarenh.org/event/low-cost-vaccine-microchip-clinics-at-aware-nh-4/
LOCATION:AWARE of NH Hooksett\, 171 Londonderry Turnpike\, #5\, Hooksett\, NH\, 03106\, United States
CATEGORIES:Low-cost Vaccine Clinics for Pets
ATTACH;FMTTYPE=image/png:https://awarenh.org/wp-content/uploads/2026/01/2026-05-02-Vx-Clinic-v2.png
ORGANIZER;CN="AWARE of NH":MAILTO:info@awarenh.org
END:VEVENT
BEGIN:VEVENT
DTSTART;TZID=America/New_York:20260606T100000
DTEND;TZID=America/New_York:20260606T120000
DTSTAMP:20260421T112902
CREATED:20260330T122007Z
LAST-MODIFIED:20260330T122007Z
UID:6745-1780740000-1780747200@awarenh.org
SUMMARY:Low-Cost Vaccine & Microchip Clinics at AWARE NH
DESCRIPTION:Events Details				\n				\n				\n				\n									When: First Saturday of every month Time: 10:00 AM – 12:00 PM (Last pet accepted at 11:45 AM) No appointments needed—just walk in!  								\n				\n		\n				\n				\n																														\n				\n				\n				\n				\n					Venue Details				\n				\n				\n				\n		\n		\n				\n				\n																														\n				\n				\n				\n									On the first Saturday of most months\, we offer affordable vaccines and microchips to help keep your pets happy\, healthy\, and safe. Important Info: • Dogs must be on a leash • Cats must be in carriersMinimum Ages: → Rabies: 12 weeks → Distemper: 6 weeks → Microchip: 8 weeks Cash (exact change preferred) & credit cards accepted.  *Note: Prices may fluctuate slightly each month
URL:https://awarenh.org/event/low-cost-vaccine-microchip-clinics-at-aware-nh-5/
LOCATION:AWARE of NH Hooksett\, 171 Londonderry Turnpike\, #5\, Hooksett\, NH\, 03106\, United States
CATEGORIES:Low-cost Vaccine Clinics for Pets
ATTACH;FMTTYPE=image/png:https://awarenh.org/wp-content/uploads/2026/03/2026-06-06-Vx-Clinic.png
ORGANIZER;CN="AWARE of NH":MAILTO:info@awarenh.org
END:VEVENT
BEGIN:VEVENT
DTSTART;VALUE=DATE:20260713
DTEND;VALUE=DATE:20260714
DTSTAMP:20260421T112902
CREATED:20260330T114959Z
LAST-MODIFIED:20260402T133858Z
UID:6720-1783900800-1783987199@awarenh.org
SUMMARY:2026 Putts for Paws Charity Golf Tournament
DESCRIPTION:Events Details				\n				\n				\n				\n									When: First Saturday of every month Time: 10:00 AM – 12:00 PM (Last pet accepted at 11:45 AM) No appointments needed—just walk in!  								\n				\n		\n				\n				\n																														\n				\n				\n				\n				\n					Venue Details				\n				\n				\n				\n		\n		\n				\n				\n																														\n				\n				\n				\n									On the first Saturday of most months\, we offer affordable vaccines and microchips to help keep your pets happy\, healthy\, and safe. Important Info: • Dogs must be on a leash • Cats must be in carriersMinimum Ages: → Rabies: 12 weeks → Distemper: 6 weeks → Microchip: 8 weeks Cash (exact change preferred) & credit cards accepted.  *Note: Prices may fluctuate slightly each month
URL:https://awarenh.org/event/2026-putts-for-paws-charity-golf-tournament/
LOCATION:Sky Meadow Country Club\, 6 Mountain Laurels Dr.\, Nashua\, NH\, 03062\, United States
CATEGORIES:Fundraisers
ORGANIZER;CN="AWARE of NH":MAILTO:info@awarenh.org
END:VEVENT
BEGIN:VEVENT
DTSTART;TZID=America/New_York:20260801T100000
DTEND;TZID=America/New_York:20260801T120000
DTSTAMP:20260421T112902
CREATED:20260413T105510Z
LAST-MODIFIED:20260413T105510Z
UID:6910-1785578400-1785585600@awarenh.org
SUMMARY:Low-Cost Vaccine & Microchip Clinics at AWARE NH
DESCRIPTION:Events Details				\n				\n				\n				\n									When: First Saturday of every month Time: 10:00 AM – 12:00 PM (Last pet accepted at 11:45 AM) No appointments needed—just walk in!  								\n				\n		\n				\n				\n																														\n				\n				\n				\n				\n					Venue Details				\n				\n				\n				\n		\n		\n				\n				\n																														\n				\n				\n				\n									On the first Saturday of most months\, we offer affordable vaccines and microchips to help keep your pets happy\, healthy\, and safe. Important Info: • Dogs must be on a leash • Cats must be in carriersMinimum Ages: → Rabies: 12 weeks → Distemper: 6 weeks → Microchip: 8 weeks Cash (exact change preferred) & credit cards accepted.  *Note: Prices may fluctuate slightly each month
URL:https://awarenh.org/event/low-cost-vaccine-microchip-clinics-at-aware-nh-6/
LOCATION:AWARE of NH Hooksett\, 171 Londonderry Turnpike\, #5\, Hooksett\, NH\, 03106\, United States
CATEGORIES:Low-cost Vaccine Clinics for Pets
ATTACH;FMTTYPE=image/png:https://awarenh.org/wp-content/uploads/2026/04/2026-08-01-Vx-Clinic.png
ORGANIZER;CN="AWARE of NH":MAILTO:info@awarenh.org
END:VEVENT
END:VCALENDAR