BEGIN:VCALENDAR
VERSION:2.0
PRODID:-//AWARE of NH - ECPv6.15.17.1//NONSGML v1.0//EN
CALSCALE:GREGORIAN
METHOD:PUBLISH
X-ORIGINAL-URL:https://awarenh.org
X-WR-CALDESC:Events for AWARE of NH
REFRESH-INTERVAL;VALUE=DURATION:PT1H
X-Robots-Tag:noindex
X-PUBLISHED-TTL:PT1H
BEGIN:VTIMEZONE
TZID:America/New_York
BEGIN:DAYLIGHT
TZOFFSETFROM:-0500
TZOFFSETTO:-0400
TZNAME:EDT
DTSTART:20240310T070000
END:DAYLIGHT
BEGIN:STANDARD
TZOFFSETFROM:-0400
TZOFFSETTO:-0500
TZNAME:EST
DTSTART:20241103T060000
END:STANDARD
BEGIN:DAYLIGHT
TZOFFSETFROM:-0500
TZOFFSETTO:-0400
TZNAME:EDT
DTSTART:20250309T070000
END:DAYLIGHT
BEGIN:STANDARD
TZOFFSETFROM:-0400
TZOFFSETTO:-0500
TZNAME:EST
DTSTART:20251102T060000
END:STANDARD
BEGIN:DAYLIGHT
TZOFFSETFROM:-0500
TZOFFSETTO:-0400
TZNAME:EDT
DTSTART:20260308T070000
END:DAYLIGHT
BEGIN:STANDARD
TZOFFSETFROM:-0400
TZOFFSETTO:-0500
TZNAME:EST
DTSTART:20261101T060000
END:STANDARD
END:VTIMEZONE
BEGIN:VEVENT
DTSTART;TZID=America/New_York:20251009T170000
DTEND;TZID=America/New_York:20251009T190000
DTSTAMP:20260421T132641
CREATED:20250918T200316Z
LAST-MODIFIED:20250918T200316Z
UID:5793-1760029200-1760036400@awarenh.org
SUMMARY:Come Celebrate Our Spay/Neuter Clinic's 1-Year Anniversary!
DESCRIPTION:Events Details				\n				\n				\n				\n									When: First Saturday of every month Time: 10:00 AM – 12:00 PM (Last pet accepted at 11:45 AM) No appointments needed—just walk in!  								\n				\n		\n				\n				\n																														\n				\n				\n				\n				\n					Venue Details				\n				\n				\n				\n		\n		\n				\n				\n																														\n				\n				\n				\n									On the first Saturday of most months\, we offer affordable vaccines and microchips to help keep your pets happy\, healthy\, and safe. Important Info: • Dogs must be on a leash • Cats must be in carriersMinimum Ages: → Rabies: 12 weeks → Distemper: 6 weeks → Microchip: 8 weeks Cash (exact change preferred) & credit cards accepted.  *Note: Prices may fluctuate slightly each month
URL:https://awarenh.org/event/come-celebrate-our-spay-neuter-clinics-1-year-anniversary/
LOCATION:AWARE of NH Hooksett\, 171 Londonderry Turnpike\, #5\, Hooksett\, NH\, 03106\, United States
CATEGORIES:AWARE Open House
ATTACH;FMTTYPE=image/png:https://awarenh.org/wp-content/uploads/2025/09/2025-10-09-Celebrate-with-Us.png
ORGANIZER;CN="AWARE of NH":MAILTO:info@awarenh.org
END:VEVENT
END:VCALENDAR